BEGIN:VCALENDAR
VERSION:2.0
PRODID:-//pretix//Music_Club_Schmölln//
BEGIN:VTIMEZONE
TZID:Europe/Berlin
BEGIN:STANDARD
DTSTART:20001029T030000
RRULE:FREQ=YEARLY;BYDAY=-1SU;BYMONTH=10
TZNAME:CET
TZOFFSETFROM:+0200
TZOFFSETTO:+0100
END:STANDARD
BEGIN:DAYLIGHT
DTSTART:20000326T020000
RRULE:FREQ=YEARLY;BYDAY=-1SU;BYMONTH=3
TZNAME:CEST
TZOFFSETFROM:+0100
TZOFFSETTO:+0200
END:DAYLIGHT
END:VTIMEZONE
BEGIN:VEVENT
UID:pretix-mcs-MC-250228-0@music-club-tickets.de
DTSTART;TZID=Europe/Berlin:20250228T210000
DESCRIPTION:Tickets: https://music-club-tickets.de/mcs/MC-250228/\nEinlass:
  28.02.2025 19:30\nVeranstalter: Music Club Schmölln
DTSTAMP:20260423T152155Z
LOCATION:MusicClub Schmölln\nAn der Sprotte 5/1\n04626 Schmölln
SUMMARY:Connolly Hayes (UK)
END:VEVENT
END:VCALENDAR
